BEGIN:VCALENDAR
VERSION:2.0
PRODID:-//Pantless Jams - ECPv6.8.3//NONSGML v1.0//EN
CALSCALE:GREGORIAN
METHOD:PUBLISH
X-WR-CALNAME:Pantless Jams
X-ORIGINAL-URL:https://pantlessjams.com
X-WR-CALDESC:Events for Pantless Jams
REFRESH-INTERVAL;VALUE=DURATION:PT1H
X-Robots-Tag:noindex
X-PUBLISHED-TTL:PT1H
BEGIN:VTIMEZONE
TZID:UTC
BEGIN:STANDARD
TZOFFSETFROM:+0000
TZOFFSETTO:+0000
TZNAME:UTC
DTSTART:20200101T000000
END:STANDARD
END:VTIMEZONE
BEGIN:VEVENT
DTSTART;TZID=UTC:20200902T170000
DTEND;TZID=UTC:20200902T200000
DTSTAMP:20260421T203415
CREATED:20200805T212813Z
LAST-MODIFIED:20200805T212813Z
UID:225-1599066000-1599076800@pantlessjams.com
SUMMARY:Oregon Rollin Food & Farmer's Market
DESCRIPTION:
URL:https://pantlessjams.com/event/oregon-rollin-food-farmers-market-2/
LOCATION:Oregon Rollin Food & Farmer’s Market\, 2973 Dustin Road\, Oregon\, OH\, 43616\, United States
END:VEVENT
BEGIN:VEVENT
DTSTART;TZID=UTC:20200830T090000
DTEND;TZID=UTC:20200830T130000
DTSTAMP:20260421T203415
CREATED:20200806T222651Z
LAST-MODIFIED:20200806T222651Z
UID:333-1598778000-1598792400@pantlessjams.com
SUMMARY:Toledo Farmer's Market
DESCRIPTION:
URL:https://pantlessjams.com/event/toledo-farmers-market-2/
LOCATION:Toledo Farmer’s Market\, 525 Market St\, Toledo\, Ohio\, 43604
END:VEVENT
BEGIN:VEVENT
DTSTART;TZID=UTC:20200829T090000
DTEND;TZID=UTC:20200829T140000
DTSTAMP:20260421T203415
CREATED:20200806T222304Z
LAST-MODIFIED:20200806T222304Z
UID:308-1598691600-1598709600@pantlessjams.com
SUMMARY:Bedford Farmer's Market
DESCRIPTION:
URL:https://pantlessjams.com/event/bedford-farmers-market-3/
LOCATION:Bedford Farmer’s Market\, 8165 Douglas Rd\, Lambertville\, Michigan\, 48144
END:VEVENT
BEGIN:VEVENT
DTSTART;TZID=UTC:20200825T150000
DTEND;TZID=UTC:20200825T190000
DTSTAMP:20260421T203415
CREATED:20200805T181047Z
LAST-MODIFIED:20200805T181047Z
UID:190-1598367600-1598382000@pantlessjams.com
SUMMARY:Sylvania Farmer's Market
DESCRIPTION:
URL:https://pantlessjams.com/event/sylvania-farmers-market/
LOCATION:Sylvania Farmer’s Market\, 7000 Erie Street\, Sylvania\, OH\, 43560\, United States
END:VEVENT
BEGIN:VEVENT
DTSTART;TZID=UTC:20200823T090000
DTEND;TZID=UTC:20200823T130000
DTSTAMP:20260421T203415
CREATED:20200806T222633Z
LAST-MODIFIED:20200806T222633Z
UID:330-1598173200-1598187600@pantlessjams.com
SUMMARY:Toledo Farmer's Market
DESCRIPTION:
URL:https://pantlessjams.com/event/toledo-farmers-market/
LOCATION:Toledo Farmer’s Market\, 525 Market St\, Toledo\, Ohio\, 43604
END:VEVENT
BEGIN:VEVENT
DTSTART;TZID=UTC:20200822T090000
DTEND;TZID=UTC:20200822T140000
DTSTAMP:20260421T203415
CREATED:20200806T222258Z
LAST-MODIFIED:20200806T222258Z
UID:317-1598086800-1598104800@pantlessjams.com
SUMMARY:Bedford Farmer's Market
DESCRIPTION:
URL:https://pantlessjams.com/event/bedford-farmers-market-2/
LOCATION:Bedford Farmer’s Market\, 8165 Douglas Rd\, Lambertville\, Michigan\, 48144
END:VEVENT
BEGIN:VEVENT
DTSTART;TZID=UTC:20200815T090000
DTEND;TZID=UTC:20200815T140000
DTSTAMP:20260421T203415
CREATED:20200806T222036Z
LAST-MODIFIED:20200806T222036Z
UID:305-1597482000-1597500000@pantlessjams.com
SUMMARY:Bedford Farmer's Market
DESCRIPTION:
URL:https://pantlessjams.com/event/bedford-farmers-market/
LOCATION:Bedford Farmer’s Market\, 8165 Douglas Rd\, Lambertville\, Michigan\, 48144
END:VEVENT
BEGIN:VEVENT
DTSTART;TZID=UTC:20200805T170000
DTEND;TZID=UTC:20200805T200000
DTSTAMP:20260421T203415
CREATED:20200805T212729Z
LAST-MODIFIED:20200805T212729Z
UID:222-1596646800-1596657600@pantlessjams.com
SUMMARY:Oregon Rollin Food & Farmer's Market
DESCRIPTION:
URL:https://pantlessjams.com/event/oregon-rollin-food-farmers-market/
LOCATION:Oregon Rollin Food & Farmer’s Market\, 2973 Dustin Road\, Oregon\, OH\, 43616\, United States
END:VEVENT
END:VCALENDAR