BEGIN:VCALENDAR
VERSION:2.0
PRODID:-//Pantless Jams - ECPv6.8.3//NONSGML v1.0//EN
CALSCALE:GREGORIAN
METHOD:PUBLISH
X-WR-CALNAME:Pantless Jams
X-ORIGINAL-URL:https://pantlessjams.com
X-WR-CALDESC:Events for Pantless Jams
REFRESH-INTERVAL;VALUE=DURATION:PT1H
X-Robots-Tag:noindex
X-PUBLISHED-TTL:PT1H
BEGIN:VTIMEZONE
TZID:America/Detroit
BEGIN:DAYLIGHT
TZOFFSETFROM:-0500
TZOFFSETTO:-0400
TZNAME:EDT
DTSTART:20220313T070000
END:DAYLIGHT
BEGIN:STANDARD
TZOFFSETFROM:-0400
TZOFFSETTO:-0500
TZNAME:EST
DTSTART:20221106T060000
END:STANDARD
END:VTIMEZONE
BEGIN:VEVENT
DTSTART;TZID=America/Detroit:20220818T150000
DTEND;TZID=America/Detroit:20220818T200000
DTSTAMP:20260421T061423
CREATED:20220808T173713Z
LAST-MODIFIED:20220808T173713Z
UID:785-1660834800-1660852800@pantlessjams.com
SUMMARY:Perrysburg Farmer’s Market 8/18/22
DESCRIPTION:
URL:https://pantlessjams.com/event/perrysburg-farmers-market-8-18-22/
END:VEVENT
END:VCALENDAR